Package: diffcoexp Version: 1.31.0 Command: /Library/Frameworks/R.framework/Resources/bin/R CMD check --install=check:diffcoexp.install-out.txt --library=/Library/Frameworks/R.framework/Resources/library --no-vignettes --timings diffcoexp_1.31.0.tar.gz StartedAt: 2025-11-13 19:37:30 -0500 (Thu, 13 Nov 2025) EndedAt: 2025-11-13 19:39:06 -0500 (Thu, 13 Nov 2025) EllapsedTime: 96.2 seconds RetCode: 0 Status: OK CheckDir: diffcoexp.Rcheck Warnings: 0