Package: diffcoexp Version: 1.31.0 Command: rm -rf diffcoexp.buildbin-libdir && mkdir diffcoexp.buildbin-libdir && /Users/biocbuild/BBS/utils/build-universal.sh diffcoexp_1.31.0.tar.gz /Library/Frameworks/R.framework/Resources/bin/R diffcoexp.buildbin-libdir StartedAt: 2025-11-13 23:35:21 -0500 (Thu, 13 Nov 2025) EndedAt: 2025-11-13 23:35:38 -0500 (Thu, 13 Nov 2025) EllapsedTime: 16.4 seconds RetCode: 0 Status: OK PackageFile: diffcoexp_1.31.0.tgz PackageFileSize: 319.3 KiB