Package: diffUTR Version: 1.19.0 Command: /home/biocbuild/bbs-3.23-bioc/R/bin/R CMD INSTALL diffUTR StartedAt: 2025-11-11 15:46:16 -0500 (Tue, 11 Nov 2025) EndedAt: 2025-11-11 15:47:03 -0500 (Tue, 11 Nov 2025) EllapsedTime: 46.6 seconds RetCode: 0 Status: OK