Package: diffUTR Version: 1.19.0 Command: /home/biocbuild/bbs-3.23-bioc/R/bin/R CMD build --keep-empty-dirs --no-resave-data diffUTR StartedAt: 2025-11-13 17:17:58 -0500 (Thu, 13 Nov 2025) EndedAt: 2025-11-13 17:19:15 -0500 (Thu, 13 Nov 2025) EllapsedTime: 77.1 seconds RetCode: 0 Status: OK PackageFile: diffUTR_1.19.0.tar.gz PackageFileSize: 1.372 MiB