Package: diffUTR Version: 1.19.0 Command: /Library/Frameworks/R.framework/Resources/bin/R CMD INSTALL diffUTR StartedAt: 2025-11-12 15:40:04 -0500 (Wed, 12 Nov 2025) EndedAt: 2025-11-12 15:40:05 -0500 (Wed, 12 Nov 2025) EllapsedTime: 1.0 seconds RetCode: 1 Status: ERROR