Package: diffUTR Version: 1.19.0 Command: /Library/Frameworks/R.framework/Resources/bin/R CMD check --install=check:diffUTR.install-out.txt --library=/Library/Frameworks/R.framework/Resources/library --no-vignettes --timings diffUTR_1.19.0.tar.gz StartedAt: 2025-11-14 19:35:19 -0500 (Fri, 14 Nov 2025) EndedAt: 2025-11-14 19:37:38 -0500 (Fri, 14 Nov 2025) EllapsedTime: 139.7 seconds RetCode: 0 Status: OK CheckDir: diffUTR.Rcheck Warnings: 0