Package: diffUTR Version: 1.19.0 Command: /Library/Frameworks/R.framework/Resources/bin/R CMD build --keep-empty-dirs --no-resave-data diffUTR StartedAt: 2025-11-13 16:13:58 -0500 (Thu, 13 Nov 2025) EndedAt: 2025-11-13 16:14:30 -0500 (Thu, 13 Nov 2025) EllapsedTime: 32.4 seconds RetCode: 0 Status: OK PackageFile: diffUTR_1.19.0.tar.gz PackageFileSize: 1.379 MiB