############################################################################## ############################################################################## ### ### Running command: ### ### /Library/Frameworks/R.framework/Resources/bin/R CMD build --keep-empty-dirs --no-resave-data diffUTR ### ############################################################################## ############################################################################## * checking for file ‘diffUTR/DESCRIPTION’ ... OK * preparing ‘diffUTR’: * checking DESCRIPTION meta-information ... OK * installing the package (it is needed to build vignettes) ----------------------------------- ERROR: dependency ‘edgeR’ is not available for package ‘diffUTR’ Perhaps try a variation of: install.packages('edgeR') * removing ‘/private/var/folders/r0/l4fjk6cj5xj0j3brt4bplpl40000gt/T/RtmpgcuqAK/Rinst4251d99fe3e/diffUTR’ ----------------------------------- ERROR: package installation failed