Package: diffHic Version: 1.43.0 Command: /home/biocbuild/bbs-3.23-bioc/R/bin/R CMD INSTALL diffHic StartedAt: 2025-11-13 15:33:01 -0500 (Thu, 13 Nov 2025) EndedAt: 2025-11-13 15:34:34 -0500 (Thu, 13 Nov 2025) EllapsedTime: 93.0 seconds RetCode: 0 Status: OK