Package: diffHic Version: 1.43.0 Command: /home/biocbuild/bbs-3.23-bioc/R/bin/R CMD check --install=check:diffHic.install-out.txt --library=/home/biocbuild/bbs-3.23-bioc/R/site-library --timings diffHic_1.43.0.tar.gz StartedAt: 2025-11-13 22:59:10 -0500 (Thu, 13 Nov 2025) EndedAt: 2025-11-13 23:05:35 -0500 (Thu, 13 Nov 2025) EllapsedTime: 385.4 seconds RetCode: 0 Status: OK CheckDir: diffHic.Rcheck Warnings: 0