Package: diffHic Version: 1.43.0 Command: /Library/Frameworks/R.framework/Resources/bin/R CMD INSTALL diffHic StartedAt: 2025-11-14 15:18:54 -0500 (Fri, 14 Nov 2025) EndedAt: 2025-11-14 15:19:24 -0500 (Fri, 14 Nov 2025) EllapsedTime: 30.7 seconds RetCode: 0 Status: OK