Package: diffHic Version: 1.43.0 Command: /Library/Frameworks/R.framework/Resources/bin/R CMD check --install=check:diffHic.install-out.txt --library=/Library/Frameworks/R.framework/Resources/library --no-vignettes --timings diffHic_1.43.0.tar.gz StartedAt: 2025-11-13 19:38:09 -0500 (Thu, 13 Nov 2025) EndedAt: 2025-11-13 19:40:44 -0500 (Thu, 13 Nov 2025) EllapsedTime: 154.9 seconds RetCode: 0 Status: OK CheckDir: diffHic.Rcheck Warnings: 0