Package: diffGeneAnalysis Version: 1.93.0 Command: /home/biocbuild/bbs-3.23-bioc/R/bin/R CMD INSTALL diffGeneAnalysis StartedAt: 2025-11-14 15:05:19 -0500 (Fri, 14 Nov 2025) EndedAt: 2025-11-14 15:05:28 -0500 (Fri, 14 Nov 2025) EllapsedTime: 9.1 seconds RetCode: 0 Status: OK