Package: diffGeneAnalysis Version: 1.93.0 Command: /Library/Frameworks/R.framework/Resources/bin/R CMD build --keep-empty-dirs --no-resave-data diffGeneAnalysis StartedAt: 2025-11-13 16:13:25 -0500 (Thu, 13 Nov 2025) EndedAt: 2025-11-13 16:13:29 -0500 (Thu, 13 Nov 2025) EllapsedTime: 4.0 seconds RetCode: 0 Status: OK PackageFile: diffGeneAnalysis_1.93.0.tar.gz PackageFileSize: 213.2 KiB