Package: derfinderPlot Version: 1.45.0 Command: /home/biocbuild/bbs-3.23-bioc/R/bin/R CMD INSTALL derfinderPlot StartedAt: 2025-11-14 15:59:29 -0500 (Fri, 14 Nov 2025) EndedAt: 2025-11-14 16:00:19 -0500 (Fri, 14 Nov 2025) EllapsedTime: 50.0 seconds RetCode: 0 Status: OK