Package: derfinderPlot Version: 1.45.0 Command: /home/biocbuild/bbs-3.23-bioc/R/bin/R CMD build --keep-empty-dirs --no-resave-data derfinderPlot StartedAt: 2025-11-14 17:15:31 -0500 (Fri, 14 Nov 2025) EndedAt: 2025-11-14 17:18:49 -0500 (Fri, 14 Nov 2025) EllapsedTime: 198.1 seconds RetCode: 0 Status: OK PackageFile: derfinderPlot_1.45.0.tar.gz PackageFileSize: 2.417 MiB