Package: derfinderPlot Version: 1.45.0 Command: /Library/Frameworks/R.framework/Resources/bin/R CMD build --keep-empty-dirs --no-resave-data derfinderPlot StartedAt: 2025-11-13 16:11:53 -0500 (Thu, 13 Nov 2025) EndedAt: 2025-11-13 16:13:14 -0500 (Thu, 13 Nov 2025) EllapsedTime: 80.9 seconds RetCode: 0 Status: OK PackageFile: derfinderPlot_1.45.0.tar.gz PackageFileSize: 2.478 MiB