Package: derfinderPlot Version: 1.45.0 Command: rm -rf derfinderPlot.buildbin-libdir && mkdir derfinderPlot.buildbin-libdir && /Users/biocbuild/BBS/utils/build-universal.sh derfinderPlot_1.45.0.tar.gz /Library/Frameworks/R.framework/Resources/bin/R derfinderPlot.buildbin-libdir StartedAt: 2025-11-13 23:35:06 -0500 (Thu, 13 Nov 2025) EndedAt: 2025-11-13 23:35:30 -0500 (Thu, 13 Nov 2025) EllapsedTime: 24.6 seconds RetCode: 0 Status: OK PackageFile: derfinderPlot_1.45.0.tgz PackageFileSize: 2.516 MiB