Package: derfinderPlot Version: 1.45.0 Maintainer: Leonardo Collado-Torres MaintainerEmail: lcolladotor at gmail.com git_url: https://git.bioconductor.org/packages/derfinderPlot git_branch: devel git_last_commit: a29c4b1 git_last_commit_date: 2025-10-29 10:21:51 -0500 (Wed, 29 Oct 2025)