Package: derfinderHelper Version: 1.45.0 Command: /Library/Frameworks/R.framework/Resources/bin/R CMD build --keep-empty-dirs --no-resave-data derfinderHelper StartedAt: 2025-11-13 16:11:52 -0500 (Thu, 13 Nov 2025) EndedAt: 2025-11-13 16:11:59 -0500 (Thu, 13 Nov 2025) EllapsedTime: 7.1 seconds RetCode: 0 Status: OK PackageFile: derfinderHelper_1.45.0.tar.gz PackageFileSize: 309.9 KiB