Package: derfinderHelper Version: 1.45.0 Maintainer: Leonardo Collado-Torres MaintainerEmail: lcolladotor at gmail.com git_url: https://git.bioconductor.org/packages/derfinderHelper git_branch: devel git_last_commit: 7f62f38 git_last_commit_date: 2025-10-29 10:21:53 -0500 (Wed, 29 Oct 2025)