Package: deltaCaptureC Version: 1.25.0 Command: /home/biocbuild/bbs-3.23-bioc/R/bin/R CMD INSTALL deltaCaptureC StartedAt: 2025-11-13 15:30:12 -0500 (Thu, 13 Nov 2025) EndedAt: 2025-11-13 15:30:44 -0500 (Thu, 13 Nov 2025) EllapsedTime: 31.9 seconds RetCode: 0 Status: OK