Package: deltaCaptureC Version: 1.25.0 Command: /home/biocbuild/bbs-3.23-bioc/R/bin/R CMD build --keep-empty-dirs --no-resave-data deltaCaptureC StartedAt: 2025-11-13 17:13:14 -0500 (Thu, 13 Nov 2025) EndedAt: 2025-11-13 17:15:14 -0500 (Thu, 13 Nov 2025) EllapsedTime: 120.1 seconds RetCode: 0 Status: OK PackageFile: deltaCaptureC_1.25.0.tar.gz PackageFileSize: 331.8 KiB