Package: deltaCaptureC Version: 1.25.0 Command: /Library/Frameworks/R.framework/Resources/bin/R CMD INSTALL deltaCaptureC StartedAt: 2025-11-13 15:15:58 -0500 (Thu, 13 Nov 2025) EndedAt: 2025-11-13 15:16:11 -0500 (Thu, 13 Nov 2025) EllapsedTime: 12.9 seconds RetCode: 0 Status: OK