Package: deltaCaptureC Version: 1.25.0 Command: /Library/Frameworks/R.framework/Resources/bin/R CMD build --keep-empty-dirs --no-resave-data deltaCaptureC StartedAt: 2025-11-13 16:10:55 -0500 (Thu, 13 Nov 2025) EndedAt: 2025-11-13 16:11:35 -0500 (Thu, 13 Nov 2025) EllapsedTime: 40.4 seconds RetCode: 0 Status: OK PackageFile: deltaCaptureC_1.25.0.tar.gz PackageFileSize: 331.6 KiB