Package: deltaCaptureC Version: 1.25.0 Command: rm -rf deltaCaptureC.buildbin-libdir && mkdir deltaCaptureC.buildbin-libdir && /Users/biocbuild/BBS/utils/build-universal.sh deltaCaptureC_1.25.0.tar.gz /Library/Frameworks/R.framework/Resources/bin/R deltaCaptureC.buildbin-libdir StartedAt: 2025-11-13 23:34:59 -0500 (Thu, 13 Nov 2025) EndedAt: 2025-11-13 23:35:15 -0500 (Thu, 13 Nov 2025) EllapsedTime: 16.4 seconds RetCode: 0 Status: OK PackageFile: deltaCaptureC_1.25.0.tgz PackageFileSize: 600.1 KiB