Package: deltaCaptureC Version: 1.25.0 Maintainer: Michael Shapiro MaintainerEmail: michael.shapiro at crick.ac.uk git_url: https://git.bioconductor.org/packages/deltaCaptureC git_branch: devel git_last_commit: 012ccf3 git_last_commit_date: 2025-10-29 10:54:03 -0500 (Wed, 29 Oct 2025)