Package: decoupleR Version: 2.17.0 Command: /Library/Frameworks/R.framework/Resources/bin/R CMD INSTALL decoupleR StartedAt: 2025-11-14 15:05:59 -0500 (Fri, 14 Nov 2025) EndedAt: 2025-11-14 15:06:05 -0500 (Fri, 14 Nov 2025) EllapsedTime: 6.1 seconds RetCode: 0 Status: OK