Package: decoupleR Version: 2.17.0 Command: /Library/Frameworks/R.framework/Resources/bin/R CMD build --keep-empty-dirs --no-resave-data decoupleR StartedAt: 2025-11-14 16:05:56 -0500 (Fri, 14 Nov 2025) EndedAt: 2025-11-14 16:12:07 -0500 (Fri, 14 Nov 2025) EllapsedTime: 370.9 seconds RetCode: 0 Status: OK PackageFile: decoupleR_2.17.0.tar.gz PackageFileSize: 4.492 MiB