Package: decoupleR Version: 2.17.0 Command: rm -rf decoupleR.buildbin-libdir && mkdir decoupleR.buildbin-libdir && /Users/biocbuild/BBS/utils/build-universal.sh decoupleR_2.17.0.tar.gz /Library/Frameworks/R.framework/Resources/bin/R decoupleR.buildbin-libdir StartedAt: 2025-11-14 23:29:44 -0500 (Fri, 14 Nov 2025) EndedAt: 2025-11-14 23:29:49 -0500 (Fri, 14 Nov 2025) EllapsedTime: 5.1 seconds RetCode: 0 Status: OK PackageFile: decoupleR_2.17.0.tgz PackageFileSize: 4.629 MiB