Package: deconvR Version: 1.17.0 Command: /home/biocbuild/bbs-3.23-bioc/R/bin/R CMD INSTALL deconvR StartedAt: 2025-11-13 15:46:08 -0500 (Thu, 13 Nov 2025) EndedAt: 2025-11-13 15:46:59 -0500 (Thu, 13 Nov 2025) EllapsedTime: 51.3 seconds RetCode: 0 Status: OK