Package: deconvR Version: 1.17.0 Command: /Library/Frameworks/R.framework/Resources/bin/R CMD INSTALL deconvR StartedAt: 2025-11-13 15:24:59 -0500 (Thu, 13 Nov 2025) EndedAt: 2025-11-13 15:25:20 -0500 (Thu, 13 Nov 2025) EllapsedTime: 20.9 seconds RetCode: 0 Status: OK