Package: deconvR Version: 1.17.0 Command: /Library/Frameworks/R.framework/Resources/bin/R CMD build --keep-empty-dirs --no-resave-data deconvR StartedAt: 2025-11-13 16:08:57 -0500 (Thu, 13 Nov 2025) EndedAt: 2025-11-13 16:09:50 -0500 (Thu, 13 Nov 2025) EllapsedTime: 52.5 seconds RetCode: 0 Status: OK PackageFile: deconvR_1.17.0.tar.gz PackageFileSize: 3.794 MiB