############################################################################## ############################################################################## ### ### Running command: ### ### /Library/Frameworks/R.framework/Resources/bin/R CMD build --keep-empty-dirs --no-resave-data deconvR ### ############################################################################## ############################################################################## * checking for file ‘deconvR/DESCRIPTION’ ... OK * preparing ‘deconvR’: * checking DESCRIPTION meta-information ... OK * installing the package (it is needed to build vignettes) ----------------------------------- ERROR: dependency ‘minfi’ is not available for package ‘deconvR’ Perhaps try a variation of: install.packages('minfi') * removing ‘/private/var/folders/r0/l4fjk6cj5xj0j3brt4bplpl40000gt/T/RtmpyYecPi/Rinst146c24977d008/deconvR’ ----------------------------------- ERROR: package installation failed