Package: decontX Version: 1.9.0 Command: /home/biocbuild/bbs-3.23-bioc/R/bin/R CMD INSTALL decontX StartedAt: 2025-11-16 15:56:31 -0500 (Sun, 16 Nov 2025) EndedAt: 2025-11-16 15:59:19 -0500 (Sun, 16 Nov 2025) EllapsedTime: 168.1 seconds RetCode: 0 Status: OK