Package: decontX Version: 1.9.0 Command: /home/biocbuild/bbs-3.23-bioc/R/bin/R CMD build --keep-empty-dirs --no-resave-data decontX StartedAt: 2025-11-18 18:02:47 -0500 (Tue, 18 Nov 2025) EndedAt: 2025-11-18 18:10:33 -0500 (Tue, 18 Nov 2025) EllapsedTime: 466.6 seconds RetCode: 0 Status: OK PackageFile: decontX_1.9.0.tar.gz PackageFileSize: 2.054 MiB