Package: decontX Version: 1.9.0 Command: rm -rf decontX.buildbin-libdir && mkdir decontX.buildbin-libdir && /Users/biocbuild/BBS/utils/build-universal.sh decontX_1.9.0.tar.gz /Library/Frameworks/R.framework/Resources/bin/R decontX.buildbin-libdir StartedAt: 2025-11-14 23:29:43 -0500 (Fri, 14 Nov 2025) EndedAt: 2025-11-14 23:30:44 -0500 (Fri, 14 Nov 2025) EllapsedTime: 61.4 seconds RetCode: 0 Status: OK PackageFile: decontX_1.9.0.tgz PackageFileSize: 2.697 MiB