Package: decompTumor2Sig Version: 2.27.0 Command: /home/biocbuild/bbs-3.23-bioc/R/bin/R CMD INSTALL decompTumor2Sig StartedAt: 2025-11-14 15:59:56 -0500 (Fri, 14 Nov 2025) EndedAt: 2025-11-14 16:00:41 -0500 (Fri, 14 Nov 2025) EllapsedTime: 45.8 seconds RetCode: 0 Status: OK