Package: decompTumor2Sig Version: 2.27.0 Command: /Library/Frameworks/R.framework/Resources/bin/R CMD build --keep-empty-dirs --no-resave-data decompTumor2Sig StartedAt: 2025-11-14 16:05:28 -0500 (Fri, 14 Nov 2025) EndedAt: 2025-11-14 16:45:29 -0500 (Fri, 14 Nov 2025) EllapsedTime: 2401.0 seconds RetCode: None Status: TIMEOUT PackageFile: None PackageFileSize: NA