Package: decompTumor2Sig Version: 2.27.0 Maintainer: Rosario M. Piro MaintainerEmail: rmpiro at gmail.com git_url: https://git.bioconductor.org/packages/decompTumor2Sig git_branch: devel git_last_commit: d30b743 git_last_commit_date: 2025-10-29 10:49:06 -0500 (Wed, 29 Oct 2025)