Package: debrowser Version: 1.39.0 Command: /Library/Frameworks/R.framework/Resources/bin/R CMD INSTALL debrowser StartedAt: 2025-11-12 15:42:46 -0500 (Wed, 12 Nov 2025) EndedAt: 2025-11-12 15:42:47 -0500 (Wed, 12 Nov 2025) EllapsedTime: 1.1 seconds RetCode: 1 Status: ERROR