############################################################################## ############################################################################## ### ### Running command: ### ### /Library/Frameworks/R.framework/Resources/bin/R CMD build --keep-empty-dirs --no-resave-data debrowser ### ############################################################################## ############################################################################## * checking for file ‘debrowser/DESCRIPTION’ ... OK * preparing ‘debrowser’: * checking DESCRIPTION meta-information ... OK * installing the package (it is needed to build vignettes) ----------------------------------- ERROR: dependencies ‘edgeR’, ‘sva’ are not available for package ‘debrowser’ Perhaps try a variation of: install.packages(c('edgeR', 'sva')) * removing ‘/private/var/folders/r0/l4fjk6cj5xj0j3brt4bplpl40000gt/T/RtmpyOS3Bi/Rinst142841c90a87a/debrowser’ ----------------------------------- ERROR: package installation failed