Package: debrowser Version: 1.39.0 Maintainer: Alper Kucukural MaintainerEmail: alper.kucukural at umassmed.edu git_url: https://git.bioconductor.org/packages/debrowser git_branch: devel git_last_commit: 17795bc git_last_commit_date: 2025-10-29 10:30:54 -0500 (Wed, 29 Oct 2025)