Package: debCAM Version: 1.29.0 Command: /home/biocbuild/bbs-3.23-bioc/R/bin/R CMD INSTALL debCAM StartedAt: 2025-11-16 16:07:46 -0500 (Sun, 16 Nov 2025) EndedAt: 2025-11-16 16:07:46 -0500 (Sun, 16 Nov 2025) EllapsedTime: 0.2 seconds RetCode: 1 Status: ERROR