Package: debCAM Version: 1.29.0 Command: /home/biocbuild/bbs-3.23-bioc/R/bin/R CMD build --keep-empty-dirs --no-resave-data debCAM StartedAt: 2025-11-16 17:10:50 -0500 (Sun, 16 Nov 2025) EndedAt: 2025-11-16 17:10:51 -0500 (Sun, 16 Nov 2025) EllapsedTime: 1.0 seconds RetCode: 1 Status: ERROR PackageFile: None PackageFileSize: NA