Package: debCAM Version: 1.29.0 Command: /Library/Frameworks/R.framework/Resources/bin/R CMD INSTALL debCAM StartedAt: 2025-11-14 15:35:02 -0500 (Fri, 14 Nov 2025) EndedAt: 2025-11-14 15:35:03 -0500 (Fri, 14 Nov 2025) EllapsedTime: 0.1 seconds RetCode: 1 Status: ERROR