Package: debCAM Version: 1.29.0 Command: /Library/Frameworks/R.framework/Resources/bin/R CMD build --keep-empty-dirs --no-resave-data debCAM StartedAt: 2025-11-14 16:05:24 -0500 (Fri, 14 Nov 2025) EndedAt: 2025-11-14 16:05:25 -0500 (Fri, 14 Nov 2025) EllapsedTime: 1.0 seconds RetCode: 1 Status: ERROR PackageFile: None PackageFileSize: NA