Package: debCAM Version: 1.29.0 Maintainer: Lulu Chen MaintainerEmail: luluchen at vt.edu git_url: https://git.bioconductor.org/packages/debCAM git_branch: devel git_last_commit: 2c79071 git_last_commit_date: 2025-10-29 10:54:19 -0500 (Wed, 29 Oct 2025)