Package: ddPCRclust Version: 1.31.0 Command: /home/biocbuild/bbs-3.23-bioc/R/bin/R CMD build --keep-empty-dirs --no-resave-data ddPCRclust StartedAt: 2025-11-11 17:12:14 -0500 (Tue, 11 Nov 2025) EndedAt: 2025-11-11 17:12:46 -0500 (Tue, 11 Nov 2025) EllapsedTime: 32.0 seconds RetCode: 0 Status: OK PackageFile: ddPCRclust_1.31.0.tar.gz PackageFileSize: 1.192 MiB