Package: ddPCRclust Version: 1.31.0 Command: /Library/Frameworks/R.framework/Resources/bin/R CMD INSTALL ddPCRclust StartedAt: 2025-11-14 15:08:31 -0500 (Fri, 14 Nov 2025) EndedAt: 2025-11-14 15:08:36 -0500 (Fri, 14 Nov 2025) EllapsedTime: 5.3 seconds RetCode: 0 Status: OK